BEGIN:VCALENDAR
VERSION:2.0
PRODID:-//Washington State Council of Fire Fighters - ECPv6.15.18//NONSGML v1.0//EN
CALSCALE:GREGORIAN
METHOD:PUBLISH
X-WR-CALNAME:Washington State Council of Fire Fighters
X-ORIGINAL-URL:https://www.wscff.org
X-WR-CALDESC:Events for Washington State Council of Fire Fighters
REFRESH-INTERVAL;VALUE=DURATION:PT1H
X-Robots-Tag:noindex
X-PUBLISHED-TTL:PT1H
BEGIN:VTIMEZONE
TZID:UTC
BEGIN:STANDARD
TZOFFSETFROM:+0000
TZOFFSETTO:+0000
TZNAME:UTC
DTSTART:20240101T000000
END:STANDARD
END:VTIMEZONE
BEGIN:VEVENT
DTSTART;TZID=UTC:20250104T080000
DTEND;TZID=UTC:20250108T170000
DTSTAMP:20260421T082521
CREATED:20240716T222846Z
LAST-MODIFIED:20240716T222851Z
UID:10000146-1735977600-1736355600@www.wscff.org
SUMMARY:IAFF ALTS
DESCRIPTION:IAFF Vincent J. Bollon Affiliate Leadership Training Summit (ALTS) provides training\, insights\, and connections help develop union leaders.  The 2025 Conference will be held in New Orleans\, LA.  Details about registration and lodging will be posted when they become availalble.
URL:https://www.wscff.org/event/iaff-alts/
LOCATION:Washington
END:VEVENT
END:VCALENDAR