BEGIN:VCALENDAR
VERSION:2.0
PRODID:-//Washington State Council of Fire Fighters - ECPv6.15.18//NONSGML v1.0//EN
CALSCALE:GREGORIAN
METHOD:PUBLISH
X-WR-CALNAME:Washington State Council of Fire Fighters
X-ORIGINAL-URL:https://www.wscff.org
X-WR-CALDESC:Events for Washington State Council of Fire Fighters
REFRESH-INTERVAL;VALUE=DURATION:PT1H
X-Robots-Tag:noindex
X-PUBLISHED-TTL:PT1H
BEGIN:VTIMEZONE
TZID:UTC
BEGIN:STANDARD
TZOFFSETFROM:+0000
TZOFFSETTO:+0000
TZNAME:UTC
DTSTART:20250101T000000
END:STANDARD
END:VTIMEZONE
BEGIN:VEVENT
DTSTART;TZID=UTC:20260308T000000
DTEND;TZID=UTC:20260311T235959
DTSTAMP:20260419T121217
CREATED:20250908T215821Z
LAST-MODIFIED:20251022T192816Z
UID:10000183-1772928000-1773273599@www.wscff.org
SUMMARY:IAFF Legislative Conference
DESCRIPTION:IAFF Legislative Conference will be held March 8 – 11\, 2026. Details will be provided when they become available.
URL:https://www.wscff.org/event/iaff-legislative-conference-3/
LOCATION:Washington
END:VEVENT
BEGIN:VEVENT
DTSTART;TZID=UTC:20260421T000000
DTEND;TZID=UTC:20260423T235959
DTSTAMP:20260419T121217
CREATED:20250321T175843Z
LAST-MODIFIED:20260303T220159Z
UID:10000170-1776729600-1776988799@www.wscff.org
SUMMARY:2026 IAFF-WSCFF Jointly Sponsored Educational Seminar
DESCRIPTION:Save the date! The 2026 IAFF-WSCFF Jointly Sponsored Educational Seminar will be held from Tuesday\, April 21 – Thursday\, April 23\, 2026 at the Wenatchee Convention Center. More details will be posted as they become available on the Educational Seminar page.  \n\n\n\nOfficers must register participants. Registration information has been shared and posted on the Officer Resources page. \n\n\n\n\n\n\n\n\n\n\n\n\n\n\n\nSave the date!
URL:https://www.wscff.org/event/2026-iaff-wscff-jointly-sponsored-educational-seminar/
LOCATION:Washington
END:VEVENT
END:VCALENDAR