BEGIN:VCALENDAR
VERSION:2.0
PRODID:-//Washington State Council of Fire Fighters - ECPv6.15.18//NONSGML v1.0//EN
CALSCALE:GREGORIAN
METHOD:PUBLISH
X-WR-CALNAME:Washington State Council of Fire Fighters
X-ORIGINAL-URL:https://www.wscff.org
X-WR-CALDESC:Events for Washington State Council of Fire Fighters
REFRESH-INTERVAL;VALUE=DURATION:PT1H
X-Robots-Tag:noindex
X-PUBLISHED-TTL:PT1H
BEGIN:VTIMEZONE
TZID:UTC
BEGIN:STANDARD
TZOFFSETFROM:+0000
TZOFFSETTO:+0000
TZNAME:UTC
DTSTART:20220101T000000
END:STANDARD
END:VTIMEZONE
BEGIN:VEVENT
DTSTART;TZID=UTC:20230916T110000
DTEND;TZID=UTC:20230916T140000
DTSTAMP:20260422T221616
CREATED:20230901T191106Z
LAST-MODIFIED:20230901T191108Z
UID:10000135-1694862000-1694872800@www.wscff.org
SUMMARY:IAFF Fallen Fire Fighter Memorial
DESCRIPTION:Located in the shadow of Pikes Peak in Colorado Springs\, the Memorial honors the sacrifice made by IAFF members who have given their lives in the line of duty. \n\n\n\nThe 2023 Fallen Fire Fighter Memorial ceremony will honor those members who died or whose name were submitted between Jan. 1\, 2021\, and Dec. 31\, 2022.  Find more information here.
URL:https://www.wscff.org/event/iaff-fallen-fire-fighter-memorial-2/
LOCATION:IAFF Fallen Fire Fighter Memorial\, 1315 E Pikes Peak Ave.\, Colorado Springs\, Colorado\, 80909
END:VEVENT
END:VCALENDAR