BEGIN:VCALENDAR
VERSION:2.0
PRODID:-//Washington State Council of Fire Fighters - ECPv6.15.18//NONSGML v1.0//EN
CALSCALE:GREGORIAN
METHOD:PUBLISH
X-WR-CALNAME:Washington State Council of Fire Fighters
X-ORIGINAL-URL:https://www.wscff.org
X-WR-CALDESC:Events for Washington State Council of Fire Fighters
REFRESH-INTERVAL;VALUE=DURATION:PT1H
X-Robots-Tag:noindex
X-PUBLISHED-TTL:PT1H
BEGIN:VTIMEZONE
TZID:UTC
BEGIN:STANDARD
TZOFFSETFROM:+0000
TZOFFSETTO:+0000
TZNAME:UTC
DTSTART:20210101T000000
END:STANDARD
END:VTIMEZONE
BEGIN:VEVENT
DTSTART;TZID=UTC:20230211T080000
DTEND;TZID=UTC:20230212T170000
DTSTAMP:20260423T053655
CREATED:20230118T232552Z
LAST-MODIFIED:20230118T233712Z
UID:10000123-1676102400-1676221200@www.wscff.org
SUMMARY:First Responder Couples Retreat
DESCRIPTION:You’re invited to a Stronger Families First Responder’s Couples Retreat.  Savor some time together\, recharge\, get expert input and rekindle your relationship during these challenging times.  The retreat includes one night at the Bellevue Hyatt\, lunches\, coaching\, and sessions from OXYGEN\, a national program serving US Military and First Responder families.  Find registration information here.
URL:https://www.wscff.org/event/first-responder-couples-retreat-2/
LOCATION:Hyatt Regency Bellevue\, 900 Bellevue Way NE\, Bellevue\, Washington\, 98004
CATEGORIES:Retreat
ATTACH;FMTTYPE=image/png:https://www.wscff.org/wp-content/uploads/Stronger-Families-two.png
END:VEVENT
BEGIN:VEVENT
DTSTART;TZID=UTC:20221022T164500
DTEND;TZID=UTC:20221022T212000
DTSTAMP:20260423T053655
CREATED:20221004T212639Z
LAST-MODIFIED:20221004T212642Z
UID:10000115-1666457100-1666473600@www.wscff.org
SUMMARY:Hope for Heroes Gala & Live Auction
DESCRIPTION:Stronger Families for Hope Heroes Gala brings together business leaders\, influencers and supporters to give back to our heroes and their families.  Find more information here.  This special night features Auctioneer John Curley\, a special jewelry grab sponsored by Uncommon James\, incredible food and wine\, a raffle\, a next-level live auction and many other surprises.
URL:https://www.wscff.org/event/hope-for-heroes-gala-live-auction/
LOCATION:Hyatt Regency Bellevue\, 900 Bellevue Way NE\, Bellevue\, Washington\, 98004
END:VEVENT
BEGIN:VEVENT
DTSTART;TZID=UTC:20220917T090000
DTEND;TZID=UTC:20220918T150000
DTSTAMP:20260423T053655
CREATED:20220608T163852Z
LAST-MODIFIED:20220608T163856Z
UID:10000098-1663405200-1663513200@www.wscff.org
SUMMARY:First Responder Couples Retreat
DESCRIPTION:This Stronger Families Couples Retreat includes one night at the Hyatt Regency Bellevue\, lunches\, coaching\, and sessions from the OXYGEN Program\, a national program that has served more than 60\,000 first responder and military families. Register here.
URL:https://www.wscff.org/event/first-responder-couples-retreat/
LOCATION:Hyatt Regency Bellevue\, 900 Bellevue Way NE\, Bellevue\, Washington\, 98004
ATTACH;FMTTYPE=image/jpeg:https://www.wscff.org/wp-content/uploads/couple-communication.jpg
END:VEVENT
END:VCALENDAR